BEGIN:VCALENDAR
VERSION:2.0
PRODID:-//https://www.fresnoscouts.org//NONSGML kigkonsult.se iCalcreator 2
 .29.14//
CALSCALE:GREGORIAN
METHOD:PUBLISH
UID:b6f33468-cbe8-434c-9f77-3f784b1c87c5
X-WR-CALNAME:JCal Pro Calendar
X-WR-CALDESC:Your online events calendar
X-WR-TIMEZONE:America/Los_Angeles
BEGIN:VTIMEZONE
TZID:America/Los_Angeles
BEGIN:STANDARD
TZNAME:PST
DTSTART:20251102T020000
TZOFFSETFROM:-0700
TZOFFSETTO:-0800
RDATE:20261101T020000
END:STANDARD
BEGIN:DAYLIGHT
TZNAME:PDT
DTSTART:20260308T020000
TZOFFSETFROM:-0800
TZOFFSETTO:-0700
RDATE:20270314T020000
END:DAYLIGHT
END:VTIMEZONE
BEGIN:VEVENT
UID:20190202T090000PST-0147kUG0lc@http://www.fresnoscouts.com/
DTSTAMP:20260423T173744Z
CATEGORIES:Outings
DESCRIPTION:<p>All scouts should plan to attend.&nbsp\; We will be presenti
 ng flags and a song.</p>\n<p>Services:</p>\n<ul>\n<li>Praise and Celebrati
 on Worship Service: 9:00 AM</li>\n<li>Adult Sunday School: 10:30 AM in the
  Community Center</li>\n<li>Traditional Worship: 10:30 AM</li>\n</ul>
DTSTART;TZID=America/Los_Angeles:20190203T090000
DTEND;TZID=America/Los_Angeles:20190203T113000
SUMMARY:Scout's Sunday
URL:https://www.fresnoscouts.org/calendar/17-outings/2-scout-s-sunday
X-ALT-DESC;FMTTYPE=TEXT/HTML:<p>All scouts should plan to attend.&nbsp\; We
  will be presenting flags and a song.</p>\n<p>Services:</p>\n<ul>\n<li>Pra
 ise and Celebration Worship Service: 9:00 AM</li>\n<li>Adult Sunday School
 : 10:30 AM in the Community Center</li>\n<li>Traditional Worship: 10:30 AM
 </li>\n</ul>
END:VEVENT
END:VCALENDAR
