BEGIN:VCALENDAR
VERSION:2.0
PRODID:-//https://www.fresnoscouts.org//NONSGML kigkonsult.se iCalcreator 2
 .29.14//
CALSCALE:GREGORIAN
METHOD:PUBLISH
UID:d9cbd5e8-cdef-49c6-a07d-b6bb95df1613
X-WR-CALNAME:JCal Pro Calendar
X-WR-CALDESC:Your online events calendar
X-WR-TIMEZONE:America/Los_Angeles
BEGIN:VTIMEZONE
TZID:America/Los_Angeles
BEGIN:STANDARD
TZNAME:PST
DTSTART:20251102T020000
TZOFFSETFROM:-0700
TZOFFSETTO:-0800
RDATE:20261101T020000
END:STANDARD
BEGIN:DAYLIGHT
TZNAME:PDT
DTSTART:20260308T020000
TZOFFSETFROM:-0800
TZOFFSETTO:-0700
RDATE:20270314T020000
END:DAYLIGHT
END:VTIMEZONE
BEGIN:VEVENT
UID:20190202T180000PST-6871wjRvUE@http://www.fresnoscouts.com/
DTSTAMP:20260423T173737Z
CATEGORIES:Outings
DESCRIPTION:<p>2019 OA Recognition Dinner</p>\n<p>Temple Beth Israel Synago
 gue 6622 N. Maroa Ave.\, Fresno\, CA</p>\n<p>Social Hour 6:00 pm – 7:00 pm
  Dinner 7:00 pm</p>\n<p>$7.00 for new arrowman and everyone else is $25.00
 </p>\n<p>Door Prize drawing for scout youth.</p>
DTSTART;TZID=America/Los_Angeles:20190202T180000
DTEND;TZID=America/Los_Angeles:20190202T210000
SUMMARY:OA Banquet
URL:https://www.fresnoscouts.org/calendar/17-outings/3-oa-banquet
X-ALT-DESC;FMTTYPE=TEXT/HTML:<p>2019 OA Recognition Dinner</p>\n<p>Temple B
 eth Israel Synagogue 6622 N. Maroa Ave.\, Fresno\, CA</p>\n<p>Social Hour 
 6:00 pm – 7:00 pm Dinner 7:00 pm</p>\n<p>$7.00 for new arrowman and everyo
 ne else is $25.00</p>\n<p>Door Prize drawing for scout youth.</p>
END:VEVENT
END:VCALENDAR
