BEGIN:VCALENDAR
VERSION:2.0
PRODID:-//https://www.fresnoscouts.org//NONSGML kigkonsult.se iCalcreator 2
 .29.14//
CALSCALE:GREGORIAN
METHOD:PUBLISH
UID:0300213c-8ff7-4f4d-99be-7c0dd2bf20a3
X-WR-CALNAME:JCal Pro Calendar
X-WR-CALDESC:Your online events calendar
X-WR-TIMEZONE:America/Los_Angeles
BEGIN:VTIMEZONE
TZID:America/Los_Angeles
BEGIN:STANDARD
TZNAME:PST
DTSTART:20251102T020000
TZOFFSETFROM:-0700
TZOFFSETTO:-0800
RDATE:20261101T020000
END:STANDARD
BEGIN:DAYLIGHT
TZNAME:PDT
DTSTART:20260308T020000
TZOFFSETFROM:-0800
TZOFFSETTO:-0700
RDATE:20270314T020000
END:DAYLIGHT
END:VTIMEZONE
BEGIN:VEVENT
UID:20190207T190000PST-9252mU1nkK@http://www.fresnoscouts.com/
DTSTAMP:20260423T173951Z
CATEGORIES:Meetings
DESCRIPTION:<p>All OA members are welcome and wear your sash.</p>\n<p>Locat
 ion:&nbsp\; Pioneer Village in Selma</p>\n<p>Time: 7:00 PM</p>\n<p>&nbsp\;
 </p>
DTSTART;TZID=America/Los_Angeles:20190207T190000
DTEND;TZID=America/Los_Angeles:20190207T190000
SUMMARY:OA Lodge Meeting
URL:https://www.fresnoscouts.org/calendar/23-meetings/13-oa-lodge-meeting
X-ALT-DESC;FMTTYPE=TEXT/HTML:<p>All OA members are welcome and wear your sa
 sh.</p>\n<p>Location:&nbsp\; Pioneer Village in Selma</p>\n<p>Time: 7:00 P
 M</p>\n<p>&nbsp\;</p>
END:VEVENT
END:VCALENDAR
