BEGIN:VCALENDAR
VERSION:2.0
PRODID:-//https://www.fresnoscouts.org//NONSGML kigkonsult.se iCalcreator 2
 .29.14//
CALSCALE:GREGORIAN
METHOD:PUBLISH
UID:d44e80b5-3193-41b9-afa7-efad6ea618c0
X-WR-CALNAME:JCal Pro Calendar
X-WR-CALDESC:Your online events calendar
X-WR-TIMEZONE:America/Los_Angeles
BEGIN:VTIMEZONE
TZID:America/Los_Angeles
BEGIN:STANDARD
TZNAME:PST
DTSTART:20251102T020000
TZOFFSETFROM:-0700
TZOFFSETTO:-0800
RDATE:20261101T020000
END:STANDARD
BEGIN:DAYLIGHT
TZNAME:PDT
DTSTART:20260308T020000
TZOFFSETFROM:-0800
TZOFFSETTO:-0700
RDATE:20270314T020000
END:DAYLIGHT
END:VTIMEZONE
BEGIN:VEVENT
UID:20190916T190000PDT-7814IEnHGm@http://www.fresnoscouts.com/
DTSTAMP:20260423T192307Z
CATEGORIES:Meetings
DESCRIPTION:<p><strong>Scouts:</strong>&nbsp\; Meeting&nbsp\;</p>\n<p>Court
  of honor MC start creating program.&nbsp\; Est 50 Programs</p>\n<p>Progra
 m:&nbsp\; Dingos</p>\n<p>Service:&nbsp\; Green Hornets</p>\n<p>Theme:&nbsp
 \; TBD</p>\n<p><strong>Committee:</strong>&nbsp\; Monthly Meeting</p>
DTSTART;TZID=America/Los_Angeles:20190916T190000
DTEND;TZID=America/Los_Angeles:20190916T190000
SUMMARY:Committee Meeting
URL:https://www.fresnoscouts.org/calendar/23-meetings/54-committee-meeting
X-ALT-DESC;FMTTYPE=TEXT/HTML:<p><strong>Scouts:</strong>&nbsp\; Meeting&nbs
 p\;</p>\n<p>Court of honor MC start creating program.&nbsp\; Est 50 Progra
 ms</p>\n<p>Program:&nbsp\; Dingos</p>\n<p>Service:&nbsp\; Green Hornets</p
 >\n<p>Theme:&nbsp\; TBD</p>\n<p><strong>Committee:</strong>&nbsp\; Monthly
  Meeting</p>
END:VEVENT
END:VCALENDAR
