BEGIN:VCALENDAR
VERSION:2.0
PRODID:-//https://www.fresnoscouts.org//NONSGML kigkonsult.se iCalcreator 2
 .29.14//
CALSCALE:GREGORIAN
METHOD:PUBLISH
UID:05d4f3fc-0c9e-4f0e-ac71-d49c2c5e7744
X-WR-CALNAME:JCal Pro Calendar
X-WR-CALDESC:Your online events calendar
X-WR-TIMEZONE:America/Los_Angeles
BEGIN:VTIMEZONE
TZID:America/Los_Angeles
BEGIN:STANDARD
TZNAME:PST
DTSTART:20251102T020000
TZOFFSETFROM:-0700
TZOFFSETTO:-0800
RDATE:20261101T020000
END:STANDARD
BEGIN:DAYLIGHT
TZNAME:PDT
DTSTART:20260308T020000
TZOFFSETFROM:-0800
TZOFFSETTO:-0700
RDATE:20270314T020000
END:DAYLIGHT
END:VTIMEZONE
BEGIN:VEVENT
UID:20190207T220000PST-87112shpam@http://www.fresnoscouts.com/
DTSTAMP:20260423T192412Z
CATEGORIES:Meetings
DESCRIPTION:<p><strong>Scouts:</strong>&nbsp\; Spring Court of Honor will s
 tart at 6:15 PM - Full Dress Uniforms (OA Sach)</p>\n<p>MC:&nbsp\; Availab
 le</p>\n<p>Food: &nbsp\;Last Name N - Z</p>\n<p>Drinks:&nbsp\; Last Name A
  - M</p>\n<p>Program:&nbsp\; Dingos</p>\n<p>Service:&nbsp\; Green Hornets<
 /p>\n<p><strong>Parents:</strong>&nbsp\; Please wear red ribbons</p>
DTSTART;TZID=America/Los_Angeles:20190930T181500
DTEND;TZID=America/Los_Angeles:20190930T181500
SUMMARY:Court of Honor
URL:https://www.fresnoscouts.org/calendar/23-meetings/56-court-of-honor
X-ALT-DESC;FMTTYPE=TEXT/HTML:<p><strong>Scouts:</strong>&nbsp\; Spring Cour
 t of Honor will start at 6:15 PM - Full Dress Uniforms (OA Sach)</p>\n<p>M
 C:&nbsp\; Available</p>\n<p>Food: &nbsp\;Last Name N - Z</p>\n<p>Drinks:&n
 bsp\; Last Name A - M</p>\n<p>Program:&nbsp\; Dingos</p>\n<p>Service:&nbsp
 \; Green Hornets</p>\n<p><strong>Parents:</strong>&nbsp\; Please wear red 
 ribbons</p>
END:VEVENT
END:VCALENDAR
