BEGIN:VCALENDAR
VERSION:2.0
PRODID:-//https://www.fresnoscouts.org//NONSGML kigkonsult.se iCalcreator 2
 .29.14//
CALSCALE:GREGORIAN
METHOD:PUBLISH
UID:7f77359a-1191-46fa-9fe6-869adcdb714d
X-WR-CALNAME:JCal Pro Calendar
X-WR-CALDESC:Your online events calendar
X-WR-TIMEZONE:America/Los_Angeles
BEGIN:VTIMEZONE
TZID:America/Los_Angeles
BEGIN:STANDARD
TZNAME:PST
DTSTART:20251102T020000
TZOFFSETFROM:-0700
TZOFFSETTO:-0800
RDATE:20261101T020000
END:STANDARD
BEGIN:DAYLIGHT
TZNAME:PDT
DTSTART:20260308T020000
TZOFFSETFROM:-0800
TZOFFSETTO:-0700
RDATE:20270314T020000
END:DAYLIGHT
END:VTIMEZONE
BEGIN:VEVENT
UID:20190225T190000PST-21152H1PlV@http://www.fresnoscouts.com/
DTSTAMP:20260423T173618Z
CATEGORIES:Meetings
DESCRIPTION:<p><strong>Scouts:</strong>&nbsp\; Meeting&nbsp\;</p>\n<p>Progr
 am:&nbsp\; Green Hornets</p>\n<p>Service:&nbsp\; Dingos</p>\n<p>Theme:&nbs
 p\; Camporee Events</p>
DTSTART;TZID=America/Los_Angeles:20190225T190000
DTEND;TZID=America/Los_Angeles:20190225T190000
SUMMARY:Scout Meeting
URL:https://www.fresnoscouts.org/calendar/23-meetings/7-meeting
X-ALT-DESC;FMTTYPE=TEXT/HTML:<p><strong>Scouts:</strong>&nbsp\; Meeting&nbs
 p\;</p>\n<p>Program:&nbsp\; Green Hornets</p>\n<p>Service:&nbsp\; Dingos</
 p>\n<p>Theme:&nbsp\; Camporee Events</p>
END:VEVENT
END:VCALENDAR
