BEGIN:VCALENDAR
VERSION:2.0
PRODID:-//https://www.fresnoscouts.org//NONSGML kigkonsult.se iCalcreator 2
 .29.14//
CALSCALE:GREGORIAN
METHOD:PUBLISH
UID:d8f07c50-dcd5-4150-901f-b47762ca8339
X-WR-CALNAME:JCal Pro Calendar
X-WR-CALDESC:Your online events calendar
X-WR-TIMEZONE:America/Los_Angeles
BEGIN:VTIMEZONE
TZID:America/Los_Angeles
BEGIN:STANDARD
TZNAME:PST
DTSTART:20251102T020000
TZOFFSETFROM:-0700
TZOFFSETTO:-0800
RDATE:20261101T020000
END:STANDARD
BEGIN:DAYLIGHT
TZNAME:PDT
DTSTART:20260308T020000
TZOFFSETFROM:-0800
TZOFFSETTO:-0700
RDATE:20270314T020000
END:DAYLIGHT
END:VTIMEZONE
BEGIN:VEVENT
UID:20190429T190000PDT-8374WOsOr6@http://www.fresnoscouts.com/
DTSTAMP:20260423T173403Z
CATEGORIES:Meetings
DESCRIPTION:<p><strong>Scouts:</strong>&nbsp\; Meeting&nbsp\;</p>\n<p>Progr
 am:&nbsp\; Green Hornets</p>\n<p>Service:&nbsp\; Dingos</p>\n<p>Theme:&nbs
 p\; Kayaking</p>
DTSTART;TZID=America/Los_Angeles:20190429T190000
DTEND;TZID=America/Los_Angeles:20190429T190000
SUMMARY:Scout Meeting
URL:https://www.fresnoscouts.org/calendar/23-meetings/29-meeting
X-ALT-DESC;FMTTYPE=TEXT/HTML:<p><strong>Scouts:</strong>&nbsp\; Meeting&nbs
 p\;</p>\n<p>Program:&nbsp\; Green Hornets</p>\n<p>Service:&nbsp\; Dingos</
 p>\n<p>Theme:&nbsp\; Kayaking</p>
END:VEVENT
BEGIN:VEVENT
UID:20190506T190000PDT-2755wm9fuv@http://www.fresnoscouts.com/
DTSTAMP:20260423T173403Z
CATEGORIES:Meetings
DESCRIPTION:<p><strong>Scouts:</strong>&nbsp\; Meeting&nbsp\;</p>\n<p>Progr
 am:&nbsp\; Dingos</p>\n<p>Service:&nbsp\; Green Hornets</p>\n<p>Theme:&nbs
 p\; Scout Spirit</p>
DTSTART;TZID=America/Los_Angeles:20190506T190000
DTEND;TZID=America/Los_Angeles:20190506T190000
SUMMARY:Scout Meeting
URL:https://www.fresnoscouts.org/calendar/23-meetings/33-meeting
X-ALT-DESC;FMTTYPE=TEXT/HTML:<p><strong>Scouts:</strong>&nbsp\; Meeting&nbs
 p\;</p>\n<p>Program:&nbsp\; Dingos</p>\n<p>Service:&nbsp\; Green Hornets</
 p>\n<p>Theme:&nbsp\; Scout Spirit</p>
END:VEVENT
BEGIN:VEVENT
UID:20190513T190000PDT-5481GWLG7k@http://www.fresnoscouts.com/
DTSTAMP:20260423T173403Z
CATEGORIES:Meetings
DESCRIPTION:<p><strong>Scouts:</strong>&nbsp\; Meeting&nbsp\;</p>\n<p>Progr
 am:&nbsp\; Dingos</p>\n<p>Service:&nbsp\; Green Hornets</p>\n<p>Theme:&nbs
 p\; Scout Spirit</p>\n<p><strong>Committee:</strong>&nbsp\; Monthly Meetin
 g</p>
DTSTART;TZID=America/Los_Angeles:20190513T190000
DTEND;TZID=America/Los_Angeles:20190513T190000
SUMMARY:Committee Meeting
URL:https://www.fresnoscouts.org/calendar/23-meetings/34-committee-meeting
X-ALT-DESC;FMTTYPE=TEXT/HTML:<p><strong>Scouts:</strong>&nbsp\; Meeting&nbs
 p\;</p>\n<p>Program:&nbsp\; Dingos</p>\n<p>Service:&nbsp\; Green Hornets</
 p>\n<p>Theme:&nbsp\; Scout Spirit</p>\n<p><strong>Committee:</strong>&nbsp
 \; Monthly Meeting</p>
END:VEVENT
BEGIN:VEVENT
UID:20190520T183000PDT-4850XPvvjo@http://www.fresnoscouts.com/
DTSTAMP:20260423T173403Z
CATEGORIES:Meetings
DESCRIPTION:<p><strong>Scouts:</strong>&nbsp\; Meeting at Woodward Park</p>
 \n<p>Program:&nbsp\; Dingos</p>\n<p>Service:&nbsp\; Green Hornets</p>\n<p>
 Theme:&nbsp\; Scout Spirit</p>\n<p><strong>Committee:&nbsp\; We will need 
 a volunteer for food.</strong></p>
DTSTART;TZID=America/Los_Angeles:20190520T183000
DTEND;TZID=America/Los_Angeles:20190520T193000
SUMMARY:Woodward Park Meeting
URL:https://www.fresnoscouts.org/calendar/23-meetings/35-woodward-park-meet
 ing
X-ALT-DESC;FMTTYPE=TEXT/HTML:<p><strong>Scouts:</strong>&nbsp\; Meeting at 
 Woodward Park</p>\n<p>Program:&nbsp\; Dingos</p>\n<p>Service:&nbsp\; Green
  Hornets</p>\n<p>Theme:&nbsp\; Scout Spirit</p>\n<p><strong>Committee:&nbs
 p\; We will need a volunteer for food.</strong></p>
END:VEVENT
BEGIN:VEVENT
UID:20190527T190000PDT-9030XA0VlP@http://www.fresnoscouts.com/
DTSTAMP:20260423T173403Z
CATEGORIES:Meetings
DTSTART;TZID=America/Los_Angeles:20190527T190000
DTEND;TZID=America/Los_Angeles:20190527T190000
SUMMARY:No Meeting
URL:https://www.fresnoscouts.org/calendar/23-meetings/36-no-meeting
END:VEVENT
BEGIN:VEVENT
UID:20190603T190000PDT-5365DdtnBd@http://www.fresnoscouts.com/
DTSTAMP:20260423T173403Z
CATEGORIES:Meetings
DESCRIPTION:<p><strong>Scouts:</strong>&nbsp\; Meeting&nbsp\;</p>\n<p>Progr
 am:&nbsp\; Green Hornets</p>\n<p>Service:&nbsp\; Dingos</p>\n<p>Theme:&nbs
 p\; Backpacking</p>
DTSTART;TZID=America/Los_Angeles:20190603T190000
DTEND;TZID=America/Los_Angeles:20190603T190000
SUMMARY:Scout Meeting
URL:https://www.fresnoscouts.org/calendar/23-meetings/39-meeting
X-ALT-DESC;FMTTYPE=TEXT/HTML:<p><strong>Scouts:</strong>&nbsp\; Meeting&nbs
 p\;</p>\n<p>Program:&nbsp\; Green Hornets</p>\n<p>Service:&nbsp\; Dingos</
 p>\n<p>Theme:&nbsp\; Backpacking</p>
END:VEVENT
BEGIN:VEVENT
UID:20190610T190000PDT-6181ZXWSBx@http://www.fresnoscouts.com/
DTSTAMP:20260423T173403Z
CATEGORIES:Meetings
DESCRIPTION:<p><strong>Scouts</strong>:&nbsp\; Meeting&nbsp\;</p>\n<p>Progr
 am:&nbsp\; Green Hornets</p>\n<p>Service:&nbsp\; Dingos</p>\n<p>Theme:&nbs
 p\; Backpacking</p>\n<p><strong>Committee</strong>:&nbsp\; Monthly Meeting
 </p>
DTSTART;TZID=America/Los_Angeles:20190610T190000
DTEND;TZID=America/Los_Angeles:20190610T190000
SUMMARY:Committee Meeting
URL:https://www.fresnoscouts.org/calendar/23-meetings/40-committee-meeting
X-ALT-DESC;FMTTYPE=TEXT/HTML:<p><strong>Scouts</strong>:&nbsp\; Meeting&nbs
 p\;</p>\n<p>Program:&nbsp\; Green Hornets</p>\n<p>Service:&nbsp\; Dingos</
 p>\n<p>Theme:&nbsp\; Backpacking</p>\n<p><strong>Committee</strong>:&nbsp\
 ; Monthly Meeting</p>
END:VEVENT
BEGIN:VEVENT
UID:20190318T183000PDT-1481rptdez@http://www.fresnoscouts.com/
DTSTAMP:20260423T173403Z
CATEGORIES:Meetings
DESCRIPTION:<p><strong>Scouts:</strong>&nbsp\; Meeting at Woodward Park Gaz
 ebo at 6:30 pm</p>\n<p>Program:&nbsp\; Green Hornets</p>\n<p>Service:&nbsp
 \; Dingos</p>\n<p>Theme:&nbsp\; Backpacking</p>\n<p><strong>Committee:&nbs
 p\; We will need a volunteer for food.</strong></p>
DTSTART;TZID=America/Los_Angeles:20190617T183000
DTEND;TZID=America/Los_Angeles:20190617T183000
SUMMARY:Woodward Park Meeting
URL:https://www.fresnoscouts.org/calendar/23-meetings/41-woodward-park-meet
 ing
X-ALT-DESC;FMTTYPE=TEXT/HTML:<p><strong>Scouts:</strong>&nbsp\; Meeting at 
 Woodward Park Gazebo at 6:30 pm</p>\n<p>Program:&nbsp\; Green Hornets</p>
 \n<p>Service:&nbsp\; Dingos</p>\n<p>Theme:&nbsp\; Backpacking</p>\n<p><str
 ong>Committee:&nbsp\; We will need a volunteer for food.</strong></p>
END:VEVENT
BEGIN:VEVENT
UID:20190624T190000PDT-7208V1Vdln@http://www.fresnoscouts.com/
DTSTAMP:20260423T173403Z
CATEGORIES:Meetings
DESCRIPTION:<p><strong>Scouts:</strong>&nbsp\; Meeting&nbsp\;</p>\n<p>Progr
 am:&nbsp\; Green Hornets</p>\n<p>Service:&nbsp\; Dingos</p>\n<p>Theme:&nbs
 p\; Backpacking</p>
DTSTART;TZID=America/Los_Angeles:20190624T190000
DTEND;TZID=America/Los_Angeles:20190624T190000
SUMMARY:Scout Meeting
URL:https://www.fresnoscouts.org/calendar/23-meetings/42-meeting
X-ALT-DESC;FMTTYPE=TEXT/HTML:<p><strong>Scouts:</strong>&nbsp\; Meeting&nbs
 p\;</p>\n<p>Program:&nbsp\; Green Hornets</p>\n<p>Service:&nbsp\; Dingos</
 p>\n<p>Theme:&nbsp\; Backpacking</p>
END:VEVENT
BEGIN:VEVENT
UID:20190207T080000PST-9862HGbKlr@http://www.fresnoscouts.com/
DTSTAMP:20260423T173403Z
CATEGORIES:Meetings
DTSTART;TZID=America/Los_Angeles:20190701T000000
DTEND;TZID=America/Los_Angeles:20190701T235959
SUMMARY:No Meeting
URL:https://www.fresnoscouts.org/calendar/23-meetings/43-no-meeting
END:VEVENT
BEGIN:VEVENT
UID:20190708T190000PDT-56520bZJ3G@http://www.fresnoscouts.com/
DTSTAMP:20260423T173403Z
CATEGORIES:Meetings
DESCRIPTION:<p><strong>Scouts:</strong>&nbsp\; Meeting&nbsp\;</p>\n<p>Progr
 am:&nbsp\; Dingos</p>\n<p>Service:&nbsp\; Green Hornets</p>\n<p>Theme:&nbs
 p\; Fishing</p>\n<p><strong>Committee:</strong>&nbsp\; Monthly Meeting</p>
DTSTART;TZID=America/Los_Angeles:20190708T190000
DTEND;TZID=America/Los_Angeles:20190708T190000
SUMMARY:Committee Meeting
URL:https://www.fresnoscouts.org/calendar/23-meetings/44-committee-meeting
X-ALT-DESC;FMTTYPE=TEXT/HTML:<p><strong>Scouts:</strong>&nbsp\; Meeting&nbs
 p\;</p>\n<p>Program:&nbsp\; Dingos</p>\n<p>Service:&nbsp\; Green Hornets</
 p>\n<p>Theme:&nbsp\; Fishing</p>\n<p><strong>Committee:</strong>&nbsp\; Mo
 nthly Meeting</p>
END:VEVENT
BEGIN:VEVENT
UID:20190207T190000PST-28646b59Lc@http://www.fresnoscouts.com/
DTSTAMP:20260423T173403Z
CATEGORIES:Meetings
DESCRIPTION:<p><strong>Scouts:</strong>&nbsp\; Meeting at Woodward Park Gaz
 ebo at 6:30 pm&nbsp\;</p>\n<p>Program:&nbsp\; Dingos</p>\n<p>Service:&nbsp
 \; Green Hornets</p>\n<p>Theme:&nbsp\; Fishing</p>\n<p><strong>Committee:&
 nbsp\; We will need a volunteer for food.</strong></p>
DTSTART;TZID=America/Los_Angeles:20190715T190000
DTEND;TZID=America/Los_Angeles:20190715T190000
SUMMARY:Woodward Park Meeting
URL:https://www.fresnoscouts.org/calendar/23-meetings/45-woodward-park-meet
 ing
X-ALT-DESC;FMTTYPE=TEXT/HTML:<p><strong>Scouts:</strong>&nbsp\; Meeting at 
 Woodward Park Gazebo at 6:30 pm&nbsp\;</p>\n<p>Program:&nbsp\; Dingos</p>
 \n<p>Service:&nbsp\; Green Hornets</p>\n<p>Theme:&nbsp\; Fishing</p>\n<p><
 strong>Committee:&nbsp\; We will need a volunteer for food.</strong></p>
END:VEVENT
BEGIN:VEVENT
UID:20190722T190000PDT-8883UahdUI@http://www.fresnoscouts.com/
DTSTAMP:20260423T173403Z
CATEGORIES:Meetings
DESCRIPTION:<p><strong>Scouts:</strong>&nbsp\; Meeting&nbsp\;</p>\n<p>Progr
 am:&nbsp\; Dingos</p>\n<p>Service:&nbsp\; Green Hornets</p>\n<p>Theme:&nbs
 p\; Fishing</p>
DTSTART;TZID=America/Los_Angeles:20190722T190000
DTEND;TZID=America/Los_Angeles:20190722T190000
SUMMARY:Scout Meeting
URL:https://www.fresnoscouts.org/calendar/23-meetings/46-meeting
X-ALT-DESC;FMTTYPE=TEXT/HTML:<p><strong>Scouts:</strong>&nbsp\; Meeting&nbs
 p\;</p>\n<p>Program:&nbsp\; Dingos</p>\n<p>Service:&nbsp\; Green Hornets</
 p>\n<p>Theme:&nbsp\; Fishing</p>
END:VEVENT
BEGIN:VEVENT
UID:20190707T190000PDT-4266n8jiPf@http://www.fresnoscouts.com/
DTSTAMP:20260423T173403Z
CATEGORIES:Meetings
DESCRIPTION:<p><strong>Scouts:</strong>&nbsp\; Meeting&nbsp\;</p>\n<p>Progr
 am:&nbsp\; Dingos</p>\n<p>Service:&nbsp\; Green Hornets</p>\n<p>Theme:&nbs
 p\; Fishing</p>
DTSTART;TZID=America/Los_Angeles:20190729T190000
DTEND;TZID=America/Los_Angeles:20190729T190000
SUMMARY:Scout Meeting
URL:https://www.fresnoscouts.org/calendar/23-meetings/47-meeting
X-ALT-DESC;FMTTYPE=TEXT/HTML:<p><strong>Scouts:</strong>&nbsp\; Meeting&nbs
 p\;</p>\n<p>Program:&nbsp\; Dingos</p>\n<p>Service:&nbsp\; Green Hornets</
 p>\n<p>Theme:&nbsp\; Fishing</p>
END:VEVENT
BEGIN:VEVENT
UID:20190805T190000PDT-3755SMnf35@http://www.fresnoscouts.com/
DTSTAMP:20260423T173403Z
CATEGORIES:Meetings
DESCRIPTION:<p><strong>Scouts:</strong>&nbsp\; Meeting&nbsp\;</p>\n<p>Progr
 am:&nbsp\; Green Hornets</p>\n<p>Service:&nbsp\; Dingos</p>\n<p>Theme:&nbs
 p\; Photography</p>
DTSTART;TZID=America/Los_Angeles:20190805T190000
DTEND;TZID=America/Los_Angeles:20190805T190000
SUMMARY:Scout Meeting
URL:https://www.fresnoscouts.org/calendar/23-meetings/48-meeting
X-ALT-DESC;FMTTYPE=TEXT/HTML:<p><strong>Scouts:</strong>&nbsp\; Meeting&nbs
 p\;</p>\n<p>Program:&nbsp\; Green Hornets</p>\n<p>Service:&nbsp\; Dingos</
 p>\n<p>Theme:&nbsp\; Photography</p>
END:VEVENT
BEGIN:VEVENT
UID:20190812T190000PDT-1058kC53OZ@http://www.fresnoscouts.com/
DTSTAMP:20260423T173403Z
CATEGORIES:Meetings
DESCRIPTION:<p><strong>Scouts</strong>:&nbsp\; Meeting&nbsp\;</p>\n<p>Start
  submitting ideas for 2019/2020 outings.</p>\n<p>Program:&nbsp\; Green Hor
 nets</p>\n<p>Service:&nbsp\; Dingos</p>\n<p>Theme:&nbsp\; Photography</p>
 \n<p><strong>Committee</strong>:&nbsp\; Monthly Meeting</p>
DTSTART;TZID=America/Los_Angeles:20190812T190000
DTEND;TZID=America/Los_Angeles:20190812T190000
SUMMARY:Committee Meeting
URL:https://www.fresnoscouts.org/calendar/23-meetings/49-committee-meeting
X-ALT-DESC;FMTTYPE=TEXT/HTML:<p><strong>Scouts</strong>:&nbsp\; Meeting&nbs
 p\;</p>\n<p>Start submitting ideas for 2019/2020 outings.</p>\n<p>Program:
 &nbsp\; Green Hornets</p>\n<p>Service:&nbsp\; Dingos</p>\n<p>Theme:&nbsp\;
  Photography</p>\n<p><strong>Committee</strong>:&nbsp\; Monthly Meeting</p
 >
END:VEVENT
BEGIN:VEVENT
UID:20190819T190000PDT-2231Fj2kvZ@http://www.fresnoscouts.com/
DTSTAMP:20260423T173403Z
CATEGORIES:Meetings
DESCRIPTION:<p><strong>Scouts:</strong>&nbsp\; Meeting at Woodward Park Gaz
 ebo at 6:30 pm</p>\n<p>Start submitting ideas for 2019/2020 outings.</p>\n
 <p>Program:&nbsp\; Green Hornets</p>\n<p>Service:&nbsp\; Dingos</p>\n<p>Th
 eme:&nbsp\; Photography</p>\n<p><strong>Committee:&nbsp\; We will need a v
 olunteer for food.</strong></p>
DTSTART;TZID=America/Los_Angeles:20190819T190000
DTEND;TZID=America/Los_Angeles:20190819T190000
SUMMARY:Woodward Park Meeting
URL:https://www.fresnoscouts.org/calendar/23-meetings/50-woodward-park-meet
 ing
X-ALT-DESC;FMTTYPE=TEXT/HTML:<p><strong>Scouts:</strong>&nbsp\; Meeting at 
 Woodward Park Gazebo at 6:30 pm</p>\n<p>Start submitting ideas for 2019/20
 20 outings.</p>\n<p>Program:&nbsp\; Green Hornets</p>\n<p>Service:&nbsp\; 
 Dingos</p>\n<p>Theme:&nbsp\; Photography</p>\n<p><strong>Committee:&nbsp\;
  We will need a volunteer for food.</strong></p>
END:VEVENT
BEGIN:VEVENT
UID:20190826T190000PDT-10226TzOeU@http://www.fresnoscouts.com/
DTSTAMP:20260423T173403Z
CATEGORIES:Meetings
DESCRIPTION:<p><strong>Scouts:</strong>&nbsp\; Meeting&nbsp\;</p>\n<p>Start
  submitting ideas for 2019/2020 outings.</p>\n<p>Program:&nbsp\; Green Hor
 nets</p>\n<p>Service:&nbsp\; Dingos</p>\n<p>Theme:&nbsp\; Photography</p>
DTSTART;TZID=America/Los_Angeles:20190826T190000
DTEND;TZID=America/Los_Angeles:20190826T190000
SUMMARY:Scout Meeting
URL:https://www.fresnoscouts.org/calendar/23-meetings/51-meeting
X-ALT-DESC;FMTTYPE=TEXT/HTML:<p><strong>Scouts:</strong>&nbsp\; Meeting&nbs
 p\;</p>\n<p>Start submitting ideas for 2019/2020 outings.</p>\n<p>Program:
 &nbsp\; Green Hornets</p>\n<p>Service:&nbsp\; Dingos</p>\n<p>Theme:&nbsp\;
  Photography</p>
END:VEVENT
BEGIN:VEVENT
UID:20190902T190000PDT-25585WvIZT@http://www.fresnoscouts.com/
DTSTAMP:20260423T173403Z
CATEGORIES:Meetings
DTSTART;TZID=America/Los_Angeles:20190902T000000
DTEND;TZID=America/Los_Angeles:20190902T235959
SUMMARY:No Meeting
URL:https://www.fresnoscouts.org/calendar/23-meetings/52-no-meeting
END:VEVENT
BEGIN:VEVENT
UID:20190909T190000PDT-0357KAuluz@http://www.fresnoscouts.com/
DTSTAMP:20260423T173403Z
CATEGORIES:Meetings
DESCRIPTION:<p><strong>Scouts:</strong>&nbsp\; Meeting</p>\n<p>Last night t
 o submit ideas on outings for 2019/2020 year.</p>\n<p>Accounce that photos
  are needed for fall court of honor.</p>\n<p>Program:&nbsp\; Dingos</p>\n<
 p>Service:&nbsp\; Green Hornets</p>\n<p>Theme:&nbsp\; TBD</p>
DTSTART;TZID=America/Los_Angeles:20190909T190000
DTEND;TZID=America/Los_Angeles:20190909T190000
SUMMARY:Scout Meeting
URL:https://www.fresnoscouts.org/calendar/23-meetings/53-meeting
X-ALT-DESC;FMTTYPE=TEXT/HTML:<p><strong>Scouts:</strong>&nbsp\; Meeting</p>
 \n<p>Last night to submit ideas on outings for 2019/2020 year.</p>\n<p>Acc
 ounce that photos are needed for fall court of honor.</p>\n<p>Program:&nbs
 p\; Dingos</p>\n<p>Service:&nbsp\; Green Hornets</p>\n<p>Theme:&nbsp\; TBD
 </p>
END:VEVENT
END:VCALENDAR
