BEGIN:VCALENDAR
VERSION:2.0
PRODID:-//https://www.fresnoscouts.org//NONSGML kigkonsult.se iCalcreator 2
 .29.14//
CALSCALE:GREGORIAN
METHOD:PUBLISH
UID:e8a7f397-1a26-4bba-b59c-fa0ddd3e735c
X-WR-CALNAME:JCal Pro Calendar
X-WR-CALDESC:Your online events calendar
X-WR-TIMEZONE:America/Los_Angeles
BEGIN:VTIMEZONE
TZID:America/Los_Angeles
BEGIN:STANDARD
TZNAME:PST
DTSTART:20251102T020000
TZOFFSETFROM:-0700
TZOFFSETTO:-0800
RDATE:20261101T020000
END:STANDARD
BEGIN:DAYLIGHT
TZNAME:PDT
DTSTART:20260308T020000
TZOFFSETFROM:-0800
TZOFFSETTO:-0700
RDATE:20270314T020000
END:DAYLIGHT
END:VTIMEZONE
BEGIN:VEVENT
UID:20190909T190000PDT-5005OO5eeV@http://www.fresnoscouts.com/
DTSTAMP:20260423T173402Z
CATEGORIES:Meetings
DESCRIPTION:<p><strong>Scouts:</strong>&nbsp\; Meeting</p>\n<p>Last night t
 o submit ideas on outings for 2019/2020 year.</p>\n<p>Accounce that photos
  are needed for fall court of honor.</p>\n<p>Program:&nbsp\; Dingos</p>\n<
 p>Service:&nbsp\; Green Hornets</p>\n<p>Theme:&nbsp\; TBD</p>
DTSTART;TZID=America/Los_Angeles:20190909T190000
DTEND;TZID=America/Los_Angeles:20190909T190000
SUMMARY:Troop Elections
URL:https://www.fresnoscouts.org/calendar/23-meetings/57-troop-elections
X-ALT-DESC;FMTTYPE=TEXT/HTML:<p><strong>Scouts:</strong>&nbsp\; Meeting</p>
 \n<p>Last night to submit ideas on outings for 2019/2020 year.</p>\n<p>Acc
 ounce that photos are needed for fall court of honor.</p>\n<p>Program:&nbs
 p\; Dingos</p>\n<p>Service:&nbsp\; Green Hornets</p>\n<p>Theme:&nbsp\; TBD
 </p>
END:VEVENT
BEGIN:VEVENT
UID:20190916T190000PDT-7814IEnHGm@http://www.fresnoscouts.com/
DTSTAMP:20260423T173402Z
CATEGORIES:Meetings
DESCRIPTION:<p><strong>Scouts:</strong>&nbsp\; Meeting&nbsp\;</p>\n<p>Court
  of honor MC start creating program.&nbsp\; Est 50 Programs</p>\n<p>Progra
 m:&nbsp\; Dingos</p>\n<p>Service:&nbsp\; Green Hornets</p>\n<p>Theme:&nbsp
 \; TBD</p>\n<p><strong>Committee:</strong>&nbsp\; Monthly Meeting</p>
DTSTART;TZID=America/Los_Angeles:20190916T190000
DTEND;TZID=America/Los_Angeles:20190916T190000
SUMMARY:Committee Meeting
URL:https://www.fresnoscouts.org/calendar/23-meetings/54-committee-meeting
X-ALT-DESC;FMTTYPE=TEXT/HTML:<p><strong>Scouts:</strong>&nbsp\; Meeting&nbs
 p\;</p>\n<p>Court of honor MC start creating program.&nbsp\; Est 50 Progra
 ms</p>\n<p>Program:&nbsp\; Dingos</p>\n<p>Service:&nbsp\; Green Hornets</p
 >\n<p>Theme:&nbsp\; TBD</p>\n<p><strong>Committee:</strong>&nbsp\; Monthly
  Meeting</p>
END:VEVENT
BEGIN:VEVENT
UID:20190923T190000PDT-6754IiBVsG@http://www.fresnoscouts.com/
DTSTAMP:20260423T173402Z
CATEGORIES:Meetings
DESCRIPTION:<p><strong>Scouts:</strong>&nbsp\; Meeting at Woodward Park Gaz
 ebo at 6:30 pm&nbsp\;</p>\n<p>Need volunteer to create flyer and head up O
 ctobers Trunk or Treat.</p>\n<p>Program:&nbsp\; Dingos</p>\n<p>Service:&nb
 sp\; Green Hornets</p>\n<p>Theme:&nbsp\; TBD</p>\n<p><strong>Committee:&nb
 sp\; We will need a volunteer for food.</strong></p>
DTSTART;TZID=America/Los_Angeles:20190923T190000
DTEND;TZID=America/Los_Angeles:20190923T190000
SUMMARY:Woodward Park Meeting
URL:https://www.fresnoscouts.org/calendar/23-meetings/55-woodward-park-meet
 ing
X-ALT-DESC;FMTTYPE=TEXT/HTML:<p><strong>Scouts:</strong>&nbsp\; Meeting at 
 Woodward Park Gazebo at 6:30 pm&nbsp\;</p>\n<p>Need volunteer to create fl
 yer and head up Octobers Trunk or Treat.</p>\n<p>Program:&nbsp\; Dingos</p
 >\n<p>Service:&nbsp\; Green Hornets</p>\n<p>Theme:&nbsp\; TBD</p>\n<p><str
 ong>Committee:&nbsp\; We will need a volunteer for food.</strong></p>
END:VEVENT
BEGIN:VEVENT
UID:20190207T220000PST-87112shpam@http://www.fresnoscouts.com/
DTSTAMP:20260423T173402Z
CATEGORIES:Meetings
DESCRIPTION:<p><strong>Scouts:</strong>&nbsp\; Spring Court of Honor will s
 tart at 6:15 PM - Full Dress Uniforms (OA Sach)</p>\n<p>MC:&nbsp\; Availab
 le</p>\n<p>Food: &nbsp\;Last Name N - Z</p>\n<p>Drinks:&nbsp\; Last Name A
  - M</p>\n<p>Program:&nbsp\; Dingos</p>\n<p>Service:&nbsp\; Green Hornets<
 /p>\n<p><strong>Parents:</strong>&nbsp\; Please wear red ribbons</p>
DTSTART;TZID=America/Los_Angeles:20190930T181500
DTEND;TZID=America/Los_Angeles:20190930T181500
SUMMARY:Court of Honor
URL:https://www.fresnoscouts.org/calendar/23-meetings/56-court-of-honor
X-ALT-DESC;FMTTYPE=TEXT/HTML:<p><strong>Scouts:</strong>&nbsp\; Spring Cour
 t of Honor will start at 6:15 PM - Full Dress Uniforms (OA Sach)</p>\n<p>M
 C:&nbsp\; Available</p>\n<p>Food: &nbsp\;Last Name N - Z</p>\n<p>Drinks:&n
 bsp\; Last Name A - M</p>\n<p>Program:&nbsp\; Dingos</p>\n<p>Service:&nbsp
 \; Green Hornets</p>\n<p><strong>Parents:</strong>&nbsp\; Please wear red 
 ribbons</p>
END:VEVENT
BEGIN:VEVENT
UID:20191028T183000PDT-3205lI8fFG@http://www.fresnoscouts.com/
DTSTAMP:20260423T173402Z
CATEGORIES:Meetings
DESCRIPTION:<p>Best Spooky Car Contest...</p>\n<p>Friends and Family are we
 lcome.</p>
DTSTART;TZID=America/Los_Angeles:20191028T183000
DTEND;TZID=America/Los_Angeles:20191028T183000
SUMMARY:Trunk or Treat
URL:https://www.fresnoscouts.org/calendar/23-meetings/65-trunk-or-treat
X-ALT-DESC;FMTTYPE=TEXT/HTML:<p>Best Spooky Car Contest...</p>\n<p>Friends 
 and Family are welcome.</p>
END:VEVENT
BEGIN:VEVENT
UID:20200323T190000PDT-1253MGGuxn@http://www.fresnoscouts.com/
DTSTAMP:20260423T173402Z
CATEGORIES:Meetings
DTSTART;TZID=America/Los_Angeles:20200323T190000
DTEND;TZID=America/Los_Angeles:20200323T203000
SUMMARY:Troop Meeting
URL:https://www.fresnoscouts.org/calendar/23-meetings/79-troop-meeting
END:VEVENT
BEGIN:VEVENT
UID:20200322T140000PDT-35751wKA2s@http://www.fresnoscouts.com/
DTSTAMP:20260423T173402Z
CATEGORIES:Meetings
DTSTART;TZID=America/Los_Angeles:20200330T190000
DTEND;TZID=America/Los_Angeles:20200330T203000
SUMMARY:Troop Meeting
URL:https://www.fresnoscouts.org/calendar/23-meetings/77-troop-meeting
END:VEVENT
BEGIN:VEVENT
UID:20200406T150000PDT-8200vrivVm@http://www.fresnoscouts.com/
DTSTAMP:20260423T173402Z
CATEGORIES:Meetings
DTSTART;TZID=America/Los_Angeles:20200406T150000
DTEND;TZID=America/Los_Angeles:20200406T150500
SUMMARY:NO Meeting
URL:https://www.fresnoscouts.org/calendar/23-meetings/90-no-meeting
END:VEVENT
BEGIN:VEVENT
UID:20200406T190000PDT-7711hSTAmf@http://www.fresnoscouts.com/
DTSTAMP:20260423T173402Z
CATEGORIES:Meetings
DTSTART;TZID=America/Los_Angeles:20200406T190000
DTEND;TZID=America/Los_Angeles:20200406T203000
SUMMARY:Troop Meeting
URL:https://www.fresnoscouts.org/calendar/23-meetings/80-troop-meeting
END:VEVENT
BEGIN:VEVENT
UID:20200413T190000PDT-3508ILuZ06@http://www.fresnoscouts.com/
DTSTAMP:20260423T173402Z
CATEGORIES:Meetings
DTSTART;TZID=America/Los_Angeles:20200413T190000
DTEND;TZID=America/Los_Angeles:20200413T203000
SUMMARY:Committee Meeting
URL:https://www.fresnoscouts.org/calendar/23-meetings/87-committee-meeting
END:VEVENT
BEGIN:VEVENT
UID:20200420T190000PDT-9168vfuG9k@http://www.fresnoscouts.com/
DTSTAMP:20260423T173402Z
CATEGORIES:Meetings
DTSTART;TZID=America/Los_Angeles:20200420T190000
DTEND;TZID=America/Los_Angeles:20200420T203000
SUMMARY:Troop Meeting
URL:https://www.fresnoscouts.org/calendar/23-meetings/81-troop-meeting
END:VEVENT
BEGIN:VEVENT
UID:20200427T190000PDT-9393H5dRjb@http://www.fresnoscouts.com/
DTSTAMP:20260423T173402Z
CATEGORIES:Meetings
DTSTART;TZID=America/Los_Angeles:20200427T190000
DTEND;TZID=America/Los_Angeles:20200427T203000
SUMMARY:Troop Meeting
URL:https://www.fresnoscouts.org/calendar/23-meetings/82-troop-meeting
END:VEVENT
BEGIN:VEVENT
UID:20200504T190000PDT-1505OUvZUM@http://www.fresnoscouts.com/
DTSTAMP:20260423T173402Z
CATEGORIES:Meetings
DTSTART;TZID=America/Los_Angeles:20200504T190000
DTEND;TZID=America/Los_Angeles:20200504T203000
EXDATE;TZID=America/Los_Angeles:20200511T190000
RRULE;TZID=America/Los_Angeles:FREQ=WEEKLY;COUNT=2;INTERVAL=1;BYDAY=MO
SUMMARY:Troop Meeting
URL:https://www.fresnoscouts.org/calendar/23-meetings/85-troop-meeting
END:VEVENT
BEGIN:VEVENT
UID:20200413T190000PDT-9984GEJdLc@http://www.fresnoscouts.com/
DTSTAMP:20260423T173402Z
CATEGORIES:Meetings
DTSTART;TZID=America/Los_Angeles:20200511T190000
DTEND;TZID=America/Los_Angeles:20200511T203000
SUMMARY:Committee Meeting
URL:https://www.fresnoscouts.org/calendar/23-meetings/84-committee-meeting
END:VEVENT
BEGIN:VEVENT
UID:20200504T190000PDT-1505OUvZUM@http://www.fresnoscouts.com/
DTSTAMP:20260423T173402Z
CATEGORIES:Meetings
DTSTART;TZID=America/Los_Angeles:20200511T190000
DTEND;TZID=America/Los_Angeles:20200511T203000
SUMMARY:Troop Meeting
URL:https://www.fresnoscouts.org/calendar/23-meetings/86-troop-meeting
END:VEVENT
END:VCALENDAR
