BEGIN:VCALENDAR
VERSION:2.0
PRODID:-//https://www.fresnoscouts.org//NONSGML kigkonsult.se iCalcreator 2
 .29.14//
CALSCALE:GREGORIAN
METHOD:PUBLISH
UID:6a2a47c9-ba3f-4ca3-a95d-3ea616e8d298
X-WR-CALNAME:JCal Pro Calendar
X-WR-CALDESC:Your online events calendar
X-WR-TIMEZONE:America/Los_Angeles
BEGIN:VTIMEZONE
TZID:America/Los_Angeles
BEGIN:STANDARD
TZNAME:PST
DTSTART:20251102T020000
TZOFFSETFROM:-0700
TZOFFSETTO:-0800
RDATE:20261101T020000
END:STANDARD
BEGIN:DAYLIGHT
TZNAME:PDT
DTSTART:20260308T020000
TZOFFSETFROM:-0800
TZOFFSETTO:-0700
RDATE:20270314T020000
END:DAYLIGHT
END:VTIMEZONE
BEGIN:VEVENT
UID:20190218T080000PST-9934kCIvCF@http://www.fresnoscouts.com/
DTSTAMP:20260423T173737Z
CATEGORIES:Holidays
DTSTART;TZID=America/Los_Angeles:20190218T000000
DTEND;TZID=America/Los_Angeles:20190218T235959
SUMMARY:Presidents Day
URL:https://www.fresnoscouts.org/calendar/24-holidays/12-presidents-day
END:VEVENT
END:VCALENDAR
