BEGIN:VCALENDAR
VERSION:2.0
PRODID:-//https://www.fresnoscouts.org//NONSGML kigkonsult.se iCalcreator 2
 .29.14//
CALSCALE:GREGORIAN
METHOD:PUBLISH
UID:58764f83-a707-4d1f-8e46-416afc939298
X-WR-CALNAME:JCal Pro Calendar
X-WR-CALDESC:Your online events calendar
X-WR-TIMEZONE:America/Los_Angeles
BEGIN:VTIMEZONE
TZID:America/Los_Angeles
BEGIN:STANDARD
TZNAME:PST
DTSTART:20251102T020000
TZOFFSETFROM:-0700
TZOFFSETTO:-0800
RDATE:20261101T020000
END:STANDARD
BEGIN:DAYLIGHT
TZNAME:PDT
DTSTART:20260308T020000
TZOFFSETFROM:-0800
TZOFFSETTO:-0700
RDATE:20270314T020000
END:DAYLIGHT
END:VTIMEZONE
BEGIN:VEVENT
UID:20190902T080000PDT-64985CdUVV@http://www.fresnoscouts.com/
DTSTAMP:20260423T173612Z
CATEGORIES:Holidays
DTSTART;TZID=America/Los_Angeles:20190902T000000
DTEND;TZID=America/Los_Angeles:20190902T235959
SUMMARY:Labor Day
URL:https://www.fresnoscouts.org/calendar/24-holidays/60-labor-day
END:VEVENT
END:VCALENDAR
