BEGIN:VCALENDAR
VERSION:2.0
PRODID:-//https://www.fresnoscouts.org//NONSGML kigkonsult.se iCalcreator 2
 .29.14//
CALSCALE:GREGORIAN
METHOD:PUBLISH
UID:196257ec-677c-4b01-825e-4d2114a357fe
X-WR-CALNAME:JCal Pro Calendar
X-WR-CALDESC:Your online events calendar
X-WR-TIMEZONE:America/Los_Angeles
BEGIN:VTIMEZONE
TZID:America/Los_Angeles
BEGIN:STANDARD
TZNAME:PST
DTSTART:20251102T020000
TZOFFSETFROM:-0700
TZOFFSETTO:-0800
RDATE:20261101T020000
END:STANDARD
BEGIN:DAYLIGHT
TZNAME:PDT
DTSTART:20260308T020000
TZOFFSETFROM:-0800
TZOFFSETTO:-0700
RDATE:20270314T020000
END:DAYLIGHT
END:VTIMEZONE
BEGIN:VEVENT
UID:20191110T080000PST-27169VmC1T@http://www.fresnoscouts.com/
DTSTAMP:20260423T173737Z
CATEGORIES:Holidays
DESCRIPTION:<p>Semper Fi!</p>
DTSTART;TZID=America/Los_Angeles:20191110T000000
DTEND;TZID=America/Los_Angeles:20191110T235959
SUMMARY:Marine Corps BDay
URL:https://www.fresnoscouts.org/calendar/24-holidays/68-marine-corps-bday
X-ALT-DESC;FMTTYPE=TEXT/HTML:<p>Semper Fi!</p>
END:VEVENT
END:VCALENDAR
