BEGIN:VCALENDAR
VERSION:2.0
PRODID:-//https://www.fresnoscouts.org//NONSGML kigkonsult.se iCalcreator 2
 .29.14//
CALSCALE:GREGORIAN
METHOD:PUBLISH
UID:860bc20a-88d9-432d-80d3-f6bfc95358f6
X-WR-CALNAME:JCal Pro Calendar
X-WR-CALDESC:Your online events calendar
X-WR-TIMEZONE:America/Los_Angeles
BEGIN:VTIMEZONE
TZID:America/Los_Angeles
BEGIN:STANDARD
TZNAME:PST
DTSTART:20251102T020000
TZOFFSETFROM:-0700
TZOFFSETTO:-0800
RDATE:20261101T020000
END:STANDARD
BEGIN:DAYLIGHT
TZNAME:PDT
DTSTART:20260308T020000
TZOFFSETFROM:-0800
TZOFFSETTO:-0700
RDATE:20270314T020000
END:DAYLIGHT
END:VTIMEZONE
BEGIN:VEVENT
UID:20191110T080000PST-27169VmC1T@http://www.fresnoscouts.com/
DTSTAMP:20260423T192031Z
CATEGORIES:Holidays
DESCRIPTION:<p>Semper Fi!</p>
DTSTART;TZID=America/Los_Angeles:20191110T000000
DTEND;TZID=America/Los_Angeles:20191110T235959
SUMMARY:Marine Corps BDay
URL:https://www.fresnoscouts.org/calendar/24-holidays/68-marine-corps-bday
X-ALT-DESC;FMTTYPE=TEXT/HTML:<p>Semper Fi!</p>
END:VEVENT
BEGIN:VEVENT
UID:20191111T080000PST-0062GciGcZ@http://www.fresnoscouts.com/
DTSTAMP:20260423T192031Z
CATEGORIES:Holidays
DESCRIPTION:<p>Salute a veteran!</p>
DTSTART;TZID=America/Los_Angeles:20191111T000000
DTEND;TZID=America/Los_Angeles:20191111T235959
SUMMARY:Veterans Day
URL:https://www.fresnoscouts.org/calendar/24-holidays/67-veterans-day
X-ALT-DESC;FMTTYPE=TEXT/HTML:<p>Salute a veteran!</p>
END:VEVENT
BEGIN:VEVENT
UID:20191128T080000PST-8796exDKTJ@http://www.fresnoscouts.com/
DTSTAMP:20260423T192031Z
CATEGORIES:Holidays
DESCRIPTION:<p>Eat some turkey.&nbsp\; Save the cows!</p>
DTSTART;TZID=America/Los_Angeles:20191128T000000
DTEND;TZID=America/Los_Angeles:20191128T235959
SUMMARY:Thanksgiving
URL:https://www.fresnoscouts.org/calendar/24-holidays/69-thanksgiving
X-ALT-DESC;FMTTYPE=TEXT/HTML:<p>Eat some turkey.&nbsp\; Save the cows!</p>
END:VEVENT
END:VCALENDAR
