BEGIN:VCALENDAR
VERSION:2.0
PRODID:-//https://www.fresnoscouts.org//NONSGML kigkonsult.se iCalcreator 2
 .29.14//
CALSCALE:GREGORIAN
METHOD:PUBLISH
UID:1d879ce4-8936-4604-8a75-d4c8d112674d
X-WR-CALNAME:JCal Pro Calendar
X-WR-CALDESC:Your online events calendar
X-WR-TIMEZONE:America/Los_Angeles
BEGIN:VTIMEZONE
TZID:America/Los_Angeles
BEGIN:STANDARD
TZNAME:PST
DTSTART:20251102T020000
TZOFFSETFROM:-0700
TZOFFSETTO:-0800
RDATE:20261101T020000
END:STANDARD
BEGIN:DAYLIGHT
TZNAME:PDT
DTSTART:20260308T020000
TZOFFSETFROM:-0800
TZOFFSETTO:-0700
RDATE:20270314T020000
END:DAYLIGHT
END:VTIMEZONE
BEGIN:VEVENT
UID:20200504T190000PDT-1505OUvZUM@http://www.fresnoscouts.com/
DTSTAMP:20260423T192029Z
CATEGORIES:Meetings
DTSTART;TZID=America/Los_Angeles:20200504T190000
DTEND;TZID=America/Los_Angeles:20200504T203000
EXDATE;TZID=America/Los_Angeles:20200511T190000
RRULE;TZID=America/Los_Angeles:FREQ=WEEKLY;COUNT=2;INTERVAL=1;BYDAY=MO
SUMMARY:Troop Meeting
URL:https://www.fresnoscouts.org/calendar/23-meetings/85-troop-meeting
END:VEVENT
BEGIN:VEVENT
UID:20200413T190000PDT-9984GEJdLc@http://www.fresnoscouts.com/
DTSTAMP:20260423T192029Z
CATEGORIES:Meetings
DTSTART;TZID=America/Los_Angeles:20200511T190000
DTEND;TZID=America/Los_Angeles:20200511T203000
SUMMARY:Committee Meeting
URL:https://www.fresnoscouts.org/calendar/23-meetings/84-committee-meeting
END:VEVENT
BEGIN:VEVENT
UID:20200504T190000PDT-1505OUvZUM@http://www.fresnoscouts.com/
DTSTAMP:20260423T192029Z
CATEGORIES:Meetings
DTSTART;TZID=America/Los_Angeles:20200511T190000
DTEND;TZID=America/Los_Angeles:20200511T203000
SUMMARY:Troop Meeting
URL:https://www.fresnoscouts.org/calendar/23-meetings/86-troop-meeting
END:VEVENT
BEGIN:VEVENT
UID:20200515T140000PDT-0994vRdFDV@http://www.fresnoscouts.com/
DTSTAMP:20260423T192029Z
CATEGORIES:Outings
DTSTART;TZID=America/Los_Angeles:20200515T173000
DTEND;TZID=America/Los_Angeles:20200517T100000
SUMMARY:Merced River Rafting
URL:https://www.fresnoscouts.org/calendar/17-outings/88-merced-river-raftin
 g
END:VEVENT
END:VCALENDAR
